BEGIN:VCALENDAR
VERSION:2.0
PRODID:-//Tukios.com/
BEGIN:VEVENT
UID:739259a3-f214-436b-9f4f-f170a456a016@www.hopkinsmortuary.com
DTSTAMP:20260423T195548Z
DTSTART:20260424T160000Z
DTEND:20260424T210000Z
SUMMARY:Public Viewing
DESCRIPTION:
URL:https://www.hopkinsmortuary.com/obituaries/sylvia-laverne-hall
LOCATION: 622 N Broad St  Thomasville GA 31792
GEO:30.8436126;-83.9854285
END:VEVENT
END:VCALENDAR