BEGIN:VCALENDAR
VERSION:2.0
PRODID:-//Tukios.com/
BEGIN:VEVENT
UID:5701b150-6351-46ba-b17a-f75d8d287a06@www.hopkinsmortuary.com
DTSTAMP:20260423T200319Z
DTSTART:20260425T140000Z
DTEND:20260425T150000Z
SUMMARY:Funeral Service
DESCRIPTION:
URL:https://www.hopkinsmortuary.com/obituaries/sylvia-laverne-hall
LOCATION:First Missionary Baptist Church 2061 N Bubba Christful Rd  
	Barwick GA 31720
GEO:30.895228;-83.744334
END:VEVENT
END:VCALENDAR