BEGIN:VCALENDAR
VERSION:2.0
PRODID:-//Tukios.com/
BEGIN:VEVENT
UID:cb0d8301-e8b4-4e19-9ba5-3d79d4110c6c@www.hopkinsmortuary.com
DTSTAMP:20260423T064431Z
DTSTART:20260424T170000Z
DTEND:20260424T220000Z
SUMMARY:Public Viewing
DESCRIPTION:
URL:https://www.hopkinsmortuary.com/obituaries/susie-sumner
LOCATION: 622 N Broad St  Thomasville GA 31792
GEO:30.8436126;-83.9854285
END:VEVENT
END:VCALENDAR