BEGIN:VCALENDAR
VERSION:2.0
PRODID:-//Tukios.com/
BEGIN:VEVENT
UID:f5fb3771-fdaa-42b7-822a-2eab651146ea@www.hopkinsmortuary.com
DTSTAMP:20260423T064650Z
DTSTART:20260425
SUMMARY:Burial
DESCRIPTION:
URL:https://www.hopkinsmortuary.com/obituaries/susie-sumner
LOCATION: 1771 North Pinetree Boulevard  Thomasville GA 31792
GEO:30.8684154;-83.9806258
END:VEVENT
END:VCALENDAR