BEGIN:VCALENDAR
VERSION:2.0
PRODID:-//Tukios.com/
BEGIN:VEVENT
UID:2493449c-6f42-4b61-ae72-13b988f8ce7b@www.hopkinsmortuary.com
DTSTAMP:20260423T064819Z
DTSTART:20260425T170000Z
DTEND:20260425T180000Z
SUMMARY:Funeral Service
DESCRIPTION:
URL:https://www.hopkinsmortuary.com/obituaries/susie-sumner
LOCATION: 110 West Calhoun Street  Thomasville GA 31792
GEO:30.8427307;-83.9860365
END:VEVENT
END:VCALENDAR