BEGIN:VCALENDAR
VERSION:2.0
PRODID:-//Tukios.com/
BEGIN:VEVENT
UID:ca94f570-f15f-486f-96df-c76eb8b84b17@www.hopkinsmortuary.com
DTSTAMP:20260425T193429Z
DTSTART:20260427T150000Z
DTEND:20260427T160000Z
SUMMARY:Graveside Service
DESCRIPTION:
URL:https://www.hopkinsmortuary.com/obituaries/dorothy-ann-moore
LOCATION: 1771 North Pinetree Boulevard  Thomasville GA 31792
GEO:30.8684154;-83.9806258
END:VEVENT
END:VCALENDAR